Workbook

Sheet Menù
A1: =D3 -> Trovato 1929
A2: Budget e Business Plan
A3: Company: | D3: Trovato 1929 | H3: First Year | K3: 2025
A52: This Format is © CentoCinquanta S.r.l.

Sheet Controll Panel
A1: =Menù!D3 -> Trovato 1929
A2: =Menù!A2 -> Budget e Business Plan
A3: Controll Panel
A5: Data sheet | B5: =Menù!K3 -> 2025 | C5: =B5+1 -> 2026 | D5: =C5+1 -> 2027 | E5: =D5+1 -> 2028 | F5: =E5+1 -> 2029
A7: DSO | B7: 0 | C7: =B7 -> 0 | D7: =C7 -> 0 | E7: =D7 -> 0 | F7: =E7 -> 0
A9: ="DPO - "&'Plur. Gen. C.'!A9 -> DPO - COGS | B9: 0 | C9: =B9 -> 0 | D9: =C9 -> 0 | E9: =D9 -> 0 | F9: =E9 -> 0
A10: ="DPO - "&'Plur. Gen. C.'!A28 -> DPO - Sales and Management costs | B10: 0 | C10: =B10 -> 0 | D10: =C10 -> 0 | E10: =D10 -> 0 | F10: =E10 -> 0
A11: ="DPO - "&'Plur. Gen. C.'!A56 -> DPO - General services | B11: 0 | C11: =B11 -> 0 | D11: =C11 -> 0 | E11: =D11 -> 0 | F11: =E11 -> 0
A12: ="DPO - "&'Plur. Gen. C.'!A85 -> DPO - Employees | B12: 0 | C12: =B12 -> 0 | D12: =C12 -> 0 | E12: =D12 -> 0 | F12: =E12 -> 0
A13: ="DPO - "&'Plur. Gen. C.'!A95 -> DPO - Depreciation and amortization | B13: 0 | C13: =B13 -> 0 | D13: =C13 -> 0 | E13: =D13 -> 0 | F13: =E13 -> 0
A14: ="DPO - "&'Plur. Gen. C.'!A109 -> DPO - Financials and taxation | B14: 0 | C14: =B14 -> 0 | D14: =C14 -> 0 | E14: =D14 -> 0 | F14: =E14 -> 0
A16: Opening days | B16: =7*52 -> 364 | C16: =B16 -> 364 | D16: =C16 -> 364 | E16: =D16 -> 364 | F16: =E16 -> 364
A17: Opening hours | B17: 07.00 Am|11.00 Pm - 16 Hours | C17: Before Lunch: 5 | D17: During Lunch: 3 | E17: After Lunch: 4 | F17: During Dinner: 4
A18: Average number of entries per hour before lunch | B18: 17 | C18: =ROUND(B18*(1+C35),0) -> 18 | D18: =ROUND(C18*(1+D35),0) -> 19 | E18: =ROUND(D18*(1+E35),0) -> 20 | F18: =ROUND(E18*(1+F35),0) -> 21
A19: Average number of entries per hour during lunch | B19: =B41/7 -> 20 | C19: =ROUND(B19*(1+C35),0) -> 21 | D19: =ROUND(C19*(1+D35),0) -> 22 | E19: =ROUND(D19*(1+E35),0) -> 23 | F19: =ROUND(E19*(1+F35),0) -> 24
A20: Average number of entries per hour after lunch | B20: =B41/7 -> 20 | C20: =ROUND(B20*(1+C35),0) -> 21 | D20: =ROUND(C20*(1+D35),0) -> 22 | E20: =ROUND(D20*(1+E35),0) -> 23 | F20: =ROUND(E20*(1+F35),0) -> 24
A21: Average number of entries per hour during dinner | B21: 7 | C21: =ROUND(B21*(1+C35),0) -> 7 | D21: =ROUND(C21*(1+D35),0) -> 7 | E21: =ROUND(D21*(1+E35),0) -> 7 | F21: =ROUND(E21*(1+F35),0) -> 7
A22: Average receipt before lunch | B22: 13 | C22: =B22*(1+C36) -> 13.26 | D22: =C22*(1+D36) -> 13.5252 | E22: =D22*(1+E36) -> 13.795704 | F22: =E22*(1+F36) -> 14.071618
A23: Average receipt during lunch | B23: 13 | C23: =B23*(1+C36) -> 13.26 | D23: =C23*(1+D36) -> 13.5252 | E23: =D23*(1+E36) -> 13.795704 | F23: =E23*(1+F36) -> 14.071618
A24: Average receipt after lunch | B24: 3.5 | C24: =B24*(1+C36) -> 3.57 | D24: =C24*(1+D36) -> 3.6414 | E24: =D24*(1+E36) -> 3.714228 | F24: =E24*(1+F36) -> 3.7885126
A25: Average receipt during dinner | B25: 4 | C25: =B25*(1+C36) -> 4.08 | D25: =C25*(1+D36) -> 4.1616 | E25: =D25*(1+E36) -> 4.244832 | F25: =E25*(1+F36) -> 4.3297286
A26: Vat | B26: 0.1 | C26: 0.1 | D26: 0.1 | E26: 0.1 | F26: 0.1
A28: Average number of entries per hour per day | B28: ='W Plur.'!B104/B16 -> 253 | C28: ='W Plur.'!C104/C16 -> 265 | D28: ='W Plur.'!D104/D16 -> 277 | E28: ='W Plur.'!E104/E16 -> 289 | F28: ='W Plur.'!F104/F16 -> 301
A30: Bond - Interest rate | B30: 0.02 | C30: // | D30: // | E30: // | F30: //
A31: Bond - Duration | B31: 6 | C31: // | D31: // | E31: // | F31: //
A33: Franchising fees | B33: 0 | C33: 0 | D33: 0 | E33: 0 | F33: 0
A35: Growth trend (entriances) | B35: 0 | C35: 0.07 | D35: 0.05 | E35: 0.05 | F35: 0.05
A36: Growth trend (prices) | B36: 0 | C36: 0.02 | D36: 0.02 | E36: 0.02 | F36: 0.02
A37: Tax rate | B37: 0.3 | C37: =B37 -> 0.3 | D37: =C37 -> 0.3 | E37: =D37 -> 0.3 | F37: =E37 -> 0.3
A39: Currency | B39: € | C39: =B39 -> € | D39: =C39 -> € | E39: =D39 -> € | F39: =E39 -> €
A41: Square meters (sales area) | B41: 140 | C41: =B41 -> 140 | D41: =C41 -> 140 | E41: =D41 -> 140 | F41: =E41 -> 140
A43: Renovation and set-up costs | B43: ='PoS ren. costs'!C24 -> 1789.2771 | C43: =B43 -> 1789.2771 | D43: =C43 -> 1789.2771 | E43: =D43 -> 1789.2771 | F43: =E43 -> 1789.2771
A45: Target COGS | B45: 0.28 | C45: =B45 -> 0.28 | D45: =C45 -> 0.28 | E45: =D45 -> 0.28 | F45: =E45 -> 0.28
A47: Rvenues | B47: ='W Plur.'!B119 -> 753480 | C47: ='W Plur.'!C119 -> 808377.82 | D47: ='W Plur.'!D119 -> 865170.16 | E47: ='W Plur.'!E119 -> 923910.84 | F47: ='W Plur.'!F119 -> 984655.08
A48: Gross Margin | B48: =100%-Riclassificato!B76 -> 0.72 | C48: =100%-Riclassificato!D76 -> 0.72 | D48: =100%-Riclassificato!E76 -> 0.72 | E48: =100%-Riclassificato!F76 -> 0.72 | F48: =100%-Riclassificato!G76 -> 0.72
A50: Cash Flow | B50: ='CF Plur'!B97 -> 199393.94 | C50: ='CF Plur'!D91 -> 212422.48 | D50: ='CF Plur'!F91 -> 223648.81 | E50: ='CF Plur'!H91 -> 245586.15 | F50: ='CF Plur'!J91 -> 265785.48
A52: Profits | B52: ='C.E.'!C81 -> 147375.93 | C52: ='C.E.'!D81 -> 158781.22 | D52: ='C.E.'!E81 -> 169114.77 | E52: ='C.E.'!F81 -> 190114.68 | F52: ='C.E.'!G81 -> 209329.72
A54: Other data | B54: BEP | C54: Sales+Vat | D54: Variable costs | E54: Fixed costs | F54: EBITDA
A55: =Menù!K3 -> 2025 | B55: // | C55: ='W Plur.'!B142 -> 815856.36 | D55: =Riclassificato!B68 -> 322713.88 | E55: =Riclassificato!B67 -> 283390.19 | F55: =Riclassificato!B21 -> 249382.05
A57: =Riclassificato!A75 -> EBITDA Margin | B57: =Riclassificato!B75 -> 0.33097368 | C57: =Riclassificato!D75 -> 0.32892916 | D57: =Riclassificato!E75 -> 0.32466755 | E57: =Riclassificato!F75 -> 0.33675536 | F57: =Riclassificato!G75 -> 0.34410986
...

Sheet HR
A1: =Menù!D3 -> Trovato 1929
A2: =Menù!A2 -> Budget e Business Plan
A3: Employees cost - Details
A5: Risorsa | B5: Progr | C5: Seniority | D5: Funzione | E5: ='Controll Panel'!B5 -> 2025 | F5: ='Controll Panel'!C5 -> 2026 | G5: ='Controll Panel'!D5 -> 2027 | H5: ='Controll Panel'!E5 -> 2028 | I5: ='Controll Panel'!F5 -> 2029 | J5: Costo azienda base | K5: ="€ "&E5 -> € 2025 | L5: ="€ "&E5&" Cons." -> € 2025 Cons. | M5: ="€ "&F5 -> € 2026 | N5: ="€ "&G5 -> € 2027 | O5: ="€ "&H5 -> € 2028 | P5: ="€ "&I5 -> € 2029
A6: Store Manager | B6: 1 | C6: Senior | D6: Management | E6: 1 | F6: 1.1 | G6: 1.05 | H6: 1.05 | I6: 1.05 | J6: 35000 | K6: =$J6*E6 -> 35000 | M6: =K6+(K6*(F6-1)) -> 38500 | N6: =M6+(M6*(G6-1)) -> 40425 | O6: =N6+(N6*(H6-1)) -> 42446.25 | P6: =O6+(O6*(I6-1)) -> 44568.562
A7: Store Manager | B7: 2 | C7: Senior | D7: Management | E7: 0 | F7: 1.1 | G7: 1.05 | H7: 1.05 | I7: 1.05 | J7: 35000 | K7: =$J7*E7 -> 0 | M7: =K7+(K7*(F7-1)) -> 0 | N7: =M7+(M7*(G7-1)) -> 0 | O7: =N7+(N7*(H7-1)) -> 0 | P7: =O7+(O7*(I7-1)) -> 0
A8: Waiter | B8: 3 | C8: Junior | D8: Sales | E8: 1 | F8: 1.1 | G8: 1.05 | H8: 1.05 | I8: 1.05 | J8: 25464.93 | K8: =$J8*E8 -> 25464.93 | M8: =K8+(K8*(F8-1)) -> 28011.423 | N8: =M8+(M8*(G8-1)) -> 29411.994 | O8: =N8+(N8*(H8-1)) -> 30882.594 | P8: =O8+(O8*(I8-1)) -> 32426.724
A9: Waiter | B9: 4 | C9: Junior | D9: Sales | E9: 0 | F9: 1.1 | G9: 1.05 | H9: 1.05 | I9: 1.05 | J9: 25464.93 | K9: =$J9*E9 -> 0 | M9: =K9+(K9*(F9-1)) -> 0 | N9: =M9+(M9*(G9-1)) -> 0 | O9: =N9+(N9*(H9-1)) -> 0 | P9: =O9+(O9*(I9-1)) -> 0
A10: Waiter | B10: 5 | C10: Junior | D10: Sales | E10: 1 | F10: 1.1 | G10: 1.05 | H10: 1.05 | I10: 1.05 | J10: 25464.93 | K10: =$J10*E10 -> 25464.93 | M10: =K10+(K10*(F10-1)) -> 28011.423 | N10: =M10+(M10*(G10-1)) -> 29411.994 | O10: =N10+(N10*(H10-1)) -> 30882.594 | P10: =O10+(O10*(I10-1)) -> 32426.724
A11: Waiter | B11: 6 | C11: Junior | D11: Sales | E11: 1 | F11: 1.1 | G11: 1.05 | H11: 1.05 | I11: 1.05 | J11: 25464.93 | K11: =$J11*E11 -> 25464.93 | M11: =K11+(K11*(F11-1)) -> 28011.423 | N11: =M11+(M11*(G11-1)) -> 29411.994 | O11: =N11+(N11*(H11-1)) -> 30882.594 | P11: =O11+(O11*(I11-1)) -> 32426.724
A12: Waiter | B12: 7 | C12: Junior | D12: Sales | E12: 1 | F12: 1.1 | G12: 1.05 | H12: 1.05 | I12: 1.05 | J12: 25464.93 | K12: =$J12*E12 -> 25464.93 | M12: =K12+(K12*(F12-1)) -> 28011.423 | N12: =M12+(M12*(G12-1)) -> 29411.994 | O12: =N12+(N12*(H12-1)) -> 30882.594 | P12: =O12+(O12*(I12-1)) -> 32426.724
A13: Waiter | B13: 8 | C13: Junior | D13: Sales | E13: 1 | F13: 1.1 | G13: 1.05 | H13: 1.05 | I13: 1.05 | J13: 25464.93 | K13: =$J13*E13 -> 25464.93 | M13: =K13+(K13*(F13-1)) -> 28011.423 | N13: =M13+(M13*(G13-1)) -> 29411.994 | O13: =N13+(N13*(H13-1)) -> 30882.594 | P13: =O13+(O13*(I13-1)) -> 32426.724
A14: TBD | B14: 9 | E14: 0 | F14: 0 | G14: 0 | H14: 0 | I14: 0 | J14: 0 | K14: =$J14*E14 -> 0 | M14: =K14+(K14*(F14-1)) -> 0 | N14: =M14+(M14*(G14-1)) -> 0 | O14: =N14+(N14*(H14-1)) -> 0 | P14: =O14+(O14*(I14-1)) -> 0
A15: TBD | B15: 10 | E15: 0 | F15: 0 | G15: 0 | H15: 0 | I15: 0 | J15: 0 | K15: =$J15*E15 -> 0 | M15: =K15+(K15*(F15-1)) -> 0 | N15: =M15+(M15*(G15-1)) -> 0 | O15: =N15+(N15*(H15-1)) -> 0 | P15: =O15+(O15*(I15-1)) -> 0
A16: TBD | B16: 11 | E16: 0 | F16: 0 | G16: 0 | H16: 0 | I16: 0 | J16: 0 | K16: =$J16*E16 -> 0 | M16: =K16+(K16*(F16-1)) -> 0 | N16: =M16+(M16*(G16-1)) -> 0 | O16: =N16+(N16*(H16-1)) -> 0 | P16: =O16+(O16*(I16-1)) -> 0
A17: TBD | B17: 12 | E17: 0 | F17: 0 | G17: 0 | H17: 0 | I17: 0 | J17: 0 | K17: =$J17*E17 -> 0 | M17: =K17+(K17*(F17-1)) -> 0 | N17: =M17+(M17*(G17-1)) -> 0 | O17: =N17+(N17*(H17-1)) -> 0 | P17: =O17+(O17*(I17-1)) -> 0
A18: TBD | B18: 13 | E18: 0 | F18: 0 | G18: 0 | H18: 0 | I18: 0 | J18: 0 | K18: =$J18*E18 -> 0 | M18: =K18+(K18*(F18-1)) -> 0 | N18: =M18+(M18*(G18-1)) -> 0 | O18: =N18+(N18*(H18-1)) -> 0 | P18: =O18+(O18*(I18-1)) -> 0
A19: TBD | B19: 14 | E19: 0 | F19: 0 | G19: 0 | H19: 0 | I19: 0 | J19: 0 | K19: =$J19*E19 -> 0 | M19: =K19+(K19*(F19-1)) -> 0 | N19: =M19+(M19*(G19-1)) -> 0 | O19: =N19+(N19*(H19-1)) -> 0 | P19: =O19+(O19*(I19-1)) -> 0
A20: TBD | B20: 15 | E20: 0 | F20: 0 | G20: 0 | H20: 0 | I20: 0 | J20: 0 | K20: =$J20*E20 -> 0 | M20: =K20+(K20*(F20-1)) -> 0 | N20: =M20+(M20*(G20-1)) -> 0 | O20: =N20+(N20*(H20-1)) -> 0 | P20: =O20+(O20*(I20-1)) -> 0
A21: TBD | B21: 16 | E21: 0 | F21: 0 | G21: 0 | H21: 0 | I21: 0 | J21: 0 | K21: =$J21*E21 -> 0 | M21: =K21+(K21*(F21-1)) -> 0 | N21: =M21+(M21*(G21-1)) -> 0 | O21: =N21+(N21*(H21-1)) -> 0 | P21: =O21+(O21*(I21-1)) -> 0
A22: TBD | B22: 17 | E22: 0 | F22: 0 | G22: 0 | H22: 0 | I22: 0 | J22: 0 | K22: =$J22*E22 -> 0 | M22: =K22+(K22*(F22-1)) -> 0 | N22: =M22+(M22*(G22-1)) -> 0 | O22: =N22+(N22*(H22-1)) -> 0 | P22: =O22+(O22*(I22-1)) -> 0
A23: Totale | C23: // | D23: // | E23: =SUM(E6:E21) -> 6 | F23: =SUM(F6:F21) -> 8.8 | G23: =SUM(G6:G21) -> 8.4 | H23: =SUM(H6:H21) -> 8.4 | I23: =SUM(I6:I21) -> 8.4 | J23: =SUM(J6:J22) -> 222789.58 | K23: =SUM(K6:K22) -> 162324.65 | L23: =SUM(L6:L22) -> 0 | M23: =SUM(M6:M22) -> 178557.12 | N23: =SUM(N6:N22) -> 187484.97 | O23: =SUM(O6:O22) -> 196859.22 | P23: =SUM(P6:P22) -> 206702.18
A25: Senior | C25: // | D25: // | E25: =COUNTIFS($C$6:$C$21,"Senior",E6:E21,">0") -> 1 | F25: =COUNTIFS($C$6:$C$21,"Senior",F6:F21,">0") -> 2 | G25: =COUNTIFS($C$6:$C$21,"Senior",G6:G21,">0") -> 2 | H25: =COUNTIFS($C$6:$C$21,"Senior",H6:H21,">0") -> 2 | I25: =COUNTIFS($C$6:$C$21,"Senior",I6:I21,">0") -> 2 | J25: // | K25: // | L25: // | M25: // | N25: // | O25: // | P25: //
A26: Junior | C26: // | D26: // | E26: =COUNTIFS($C$6:$C$21,"Junior",E6:E21,">0") -> 5 | F26: =COUNTIFS($C$6:$C$21,"Junior",F6:F21,">0") -> 6 | G26: =COUNTIFS($C$6:$C$21,"Junior",G6:G21,">0") -> 6 | H26: =COUNTIFS($C$6:$C$21,"Junior",H6:H21,">0") -> 6 | I26: =COUNTIFS($C$6:$C$21,"Junior",I6:I21,">0") -> 6 | J26: // | K26: // | L26: // | M26: // | N26: // | O26: // | P26: //

Sheet W Plur.
A1: =Menù!D3 -> Trovato 1929
A2: =Menù!A2 -> Budget e Business Plan
A3: Revenues per year
A5: Revenues per year - Details | B5: =Menù!K3 -> 2025 | C5: =B5+1 -> 2026 | D5: =C5+1 -> 2027 | E5: =D5+1 -> 2028 | F5: =E5+1 -> 2029
A7: Revenues before lunch | B7: 1 | C7: 2 | D7: 3 | E7: 4 | F7: 5
A8: Q | B8: ='Controll Panel'!B16*5*'Controll Panel'!B18 -> 30940 | C8: ='Controll Panel'!C16*5*'Controll Panel'!C18 -> 32760 | D8: ='Controll Panel'!D16*5*'Controll Panel'!D18 -> 34580 | E8: ='Controll Panel'!E16*5*'Controll Panel'!E18 -> 36400 | F8: ='Controll Panel'!F16*5*'Controll Panel'!F18 -> 38220
A9: AvP | B9: ='Controll Panel'!B22/(1+'Controll Panel'!B26) -> 11.818182 | C9: ='Controll Panel'!C22/(1+'Controll Panel'!C26) -> 12.054545 | D9: ='Controll Panel'!D22/(1+'Controll Panel'!D26) -> 12.295636 | E9: ='Controll Panel'!E22/(1+'Controll Panel'!E26) -> 12.541549 | F9: ='Controll Panel'!F22/(1+'Controll Panel'!F26) -> 12.79238
A10: Total Revenues | B10: =B8*B9 -> 365654.55 | C10: =C8*C9 -> 394906.91 | D10: =D8*D9 -> 425183.11 | E10: =E8*E9 -> 456512.39 | F10: =F8*F9 -> 488924.77
A11: Δ € | B11: // | C11: =C10-B10 -> 29252.364 | D11: =D10-C10 -> 30276.196 | E11: =E10-D10 -> 31329.281 | F11: =F10-E10 -> 32412.379
A12: Δ % | B12: // | C12: =IFERROR((C10/B10)-100%,0) -> 0.08 | D12: =(D10/C10)-100% -> 0.076666667 | E12: =(E10/D10)-100% -> 0.073684211 | F12: =(F10/E10)-100% -> 0.071
A14: Revenues during lunch | B14: 1 | C14: 2 | D14: 3 | E14: 4 | F14: 5
A15: Q | B15: ='Controll Panel'!B19*'Controll Panel'!B16*3 -> 21840 | C15: ='Controll Panel'!C19*'Controll Panel'!C16*3 -> 22932 | D15: ='Controll Panel'!D19*'Controll Panel'!D16*3 -> 24024 | E15: ='Controll Panel'!E19*'Controll Panel'!E16*3 -> 25116 | F15: ='Controll Panel'!F19*'Controll Panel'!F16*3 -> 26208
A16: AvP | B16: ='Controll Panel'!B23/(1+'Controll Panel'!B26) -> 11.818182 | C16: ='Controll Panel'!C23/(1+'Controll Panel'!C26) -> 12.054545 | D16: ='Controll Panel'!D23/(1+'Controll Panel'!D26) -> 12.295636 | E16: ='Controll Panel'!E23/(1+'Controll Panel'!E26) -> 12.541549 | F16: ='Controll Panel'!F23/(1+'Controll Panel'!F26) -> 12.79238
A17: Total Revenues | B17: =B16*B15 -> 258109.09 | C17: =C16*C15 -> 276434.84 | D17: =D16*D15 -> 295390.37 | E17: =E16*E15 -> 314993.55 | F17: =F16*F15 -> 335262.7
A18: Δ € | B18: // | C18: =C17-B17 -> 18325.745 | D18: =D17-C17 -> 18955.532 | E18: =E17-D17 -> 19603.179 | F18: =F17-E17 -> 20269.15
A19: Δ % | B19: // | C19: =IFERROR((C17/B17)-100%,0) -> 0.071 | D19: =IFERROR((D17/C17)-100%,0) -> 0.068571429 | E19: =IFERROR((E17/D17)-100%,0) -> 0.066363636 | F19: =IFERROR((F17/E17)-100%,0) -> 0.064347826
A21: Revenues after lunch | B21: 1 | C21: 2 | D21: 3 | E21: 4 | F21: 5
A22: Q | B22: ='Controll Panel'!B16*'Controll Panel'!B20*4 -> 29120 | C22: ='Controll Panel'!C16*'Controll Panel'!C20*4 -> 30576 | D22: ='Controll Panel'!D16*'Controll Panel'!D20*4 -> 32032 | E22: ='Controll Panel'!E16*'Controll Panel'!E20*4 -> 33488 | F22: ='Controll Panel'!F16*'Controll Panel'!F20*4 -> 34944
A23: AvP | B23: ='Controll Panel'!B24/(1+'Controll Panel'!B26) -> 3.1818182 | C23: ='Controll Panel'!C24/(1+'Controll Panel'!C26) -> 3.2454545 | D23: ='Controll Panel'!D24/(1+'Controll Panel'!D26) -> 3.3103636 | E23: ='Controll Panel'!E24/(1+'Controll Panel'!E26) -> 3.3765709 | F23: ='Controll Panel'!F24/(1+'Controll Panel'!F26) -> 3.4441023
A24: Total Revenues | B24: =B23*B22 -> 92654.545 | C24: =C23*C22 -> 99233.018 | D24: =D23*D22 -> 106037.57 | E24: =E23*E22 -> 113074.61 | F24: =F23*F22 -> 120350.71
A25: Δ € | B25: // | C25: =C24-B24 -> 6578.4727 | D25: =D24-C24 -> 6804.5498 | E25: =E24-D24 -> 7037.0386 | F25: =F24-E24 -> 7276.1051
A26: Δ % | B26: // | C26: =IFERROR((C24/B24)-100%,0) -> 0.071 | D26: =IFERROR((D24/C24)-100%,0) -> 0.068571429 | E26: =IFERROR((E24/D24)-100%,0) -> 0.066363636 | F26: =IFERROR((F24/E24)-100%,0) -> 0.064347826
A28: Revenues during dinner | B28: 1 | C28: 2 | D28: 3 | E28: 4 | F28: 5
A29: Q | B29: ='Controll Panel'!B16*'Controll Panel'!B21*4 -> 10192 | C29: ='Controll Panel'!C16*'Controll Panel'!C21*4 -> 10192 | D29: ='Controll Panel'!D16*'Controll Panel'!D21*4 -> 10192 | E29: ='Controll Panel'!E16*'Controll Panel'!E21*4 -> 10192 | F29: ='Controll Panel'!F16*'Controll Panel'!F21*4 -> 10192
A30: AvP | B30: ='Controll Panel'!B25/(1+'Controll Panel'!B26) -> 3.6363636 | C30: ='Controll Panel'!C25/(1+'Controll Panel'!C26) -> 3.7090909 | D30: ='Controll Panel'!D25/(1+'Controll Panel'!D26) -> 3.7832727 | E30: ='Controll Panel'!E25/(1+'Controll Panel'!E26) -> 3.8589382 | F30: ='Controll Panel'!F25/(1+'Controll Panel'!F26) -> 3.9361169
A31: Total Revenues | B31: =B30*B29 -> 37061.818 | C31: =C30*C29 -> 37803.055 | D31: =D30*D29 -> 38559.116 | E31: =E30*E29 -> 39330.298 | F31: =F30*F29 -> 40116.904
A32: Δ € | B32: // | C32: =C31-B31 -> 741.23636 | D32: =D31-C31 -> 756.06109 | E32: =E31-D31 -> 771.18231 | F32: =F31-E31 -> 786.60596
A33: Δ % | B33: // | C33: =IFERROR((C31/B31)-100%,0) -> 0.02 | D33: =IFERROR((D31/C31)-100%,0) -> 0.02 | E33: =IFERROR((E31/D31)-100%,0) -> 0.02 | F33: =IFERROR((F31/E31)-100%,0) -> 0.02
A35: // | B35: 1 | C35: 2 | D35: 3 | E35: 4 | F35: 5
A36: Clienti | B36: 0 | C36: 0 | D36: 0 | E36: 0 | F36: 0
A37: Prezzo medio | B37: ='Controll Panel'!B36/(1+'Controll Panel'!B38) -> 0 | C37: 0 | D37: 0 | E37: 0 | F37: 0
A38: Ricavi totali | B38: =B37*B36 -> 0 | C38: =C37*C36 -> 0 | D38: =D37*D36 -> 0 | E38: =E37*E36 -> 0 | F38: =F37*F36 -> 0
A39: Δ € | B39: // | C39: =C38-B38 -> 0 | D39: =D38-C38 -> 0 | E39: =E38-D38 -> 0 | F39: =F38-E38 -> 0
A40: Δ % | B40: // | C40: =IFERROR((C38/B38)-100%,0) -> 0 | D40: =IFERROR((D38/C38)-100%,0) -> 0 | E40: =IFERROR((E38/D38)-100%,0) -> 0 | F40: =IFERROR((F38/E38)-100%,0) -> 0
A42: // | B42: 1 | C42: 2 | D42: 3 | E42: 4 | F42: 5
A43: Clienti | B43: 0 | C43: 0 | D43: 0 | E43: 0 | F43: 0
A44: Prezzo medio | B44: 0 | C44: =B44 -> 0 | D44: =C44 -> 0 | E44: =D44 -> 0 | F44: =E44 -> 0
A45: Ricavi totali | B45: =B44*B43 -> 0 | C45: =C44*C43 -> 0 | D45: =D44*D43 -> 0 | E45: =E44*E43 -> 0 | F45: =F44*F43 -> 0
A46: Δ € | B46: // | C46: =C45-B45 -> 0 | D46: =D45-C45 -> 0 | E46: =E45-D45 -> 0 | F46: =F45-E45 -> 0
A47: Δ % | B47: // | C47: =IFERROR((C45/B45)-100%,0) -> 0 | D47: =IFERROR((D45/C45)-100%,0) -> 0 | E47: =IFERROR((E45/D45)-100%,0) -> 0 | F47: =IFERROR((F45/E45)-100%,0) -> 0
...

Sheet W. Month
A1: =Menù!D3 -> Trovato 1929
A2: =Menù!A2 -> Budget e Business Plan
B3: Budget | E3: Monthly analisys | K3: View | M3: Ricavi generati
A5: Historical sales trend | B5: January | C5: February | D5: March | E5: April | F5: May | G5: June | H5: July | I5: August | J5: September | K5: October | L5: November | M5: December | N5: Sum | O5: Check
A6: =Menù!K3-1 -> 2024 | B6: 0.078086276 | C6: 0.075844659 | D6: 0.084605064 | E6: 0.083665833 | F6: 0.087751492 | G6: 0.08965313 | H6: 0.099258962 | I6: 0.097075092 | J6: 0.081999006 | K6: 0.08086342 | L6: 0.069006018 | M6: 0.072191047 | N6: =SUM(B6:M6) -> 1 | O6: =IF(N6=100%,"Ok","Da verificare") -> Ok
A7: =A6-1 -> 2023 | B7: 0.078086276 | C7: 0.075844659 | D7: 0.084605064 | E7: 0.083665833 | F7: 0.087751492 | G7: 0.08965313 | H7: 0.099258962 | I7: 0.097075092 | J7: 0.081999006 | K7: 0.08086342 | L7: 0.069006018 | M7: 0.072191047 | N7: =SUM(B7:M7) -> 1 | O7: =IF(N7=100%,"Ok","Da verificare") -> Ok
A8: =A7-1 -> 2022 | B8: 0.078086276 | C8: 0.075844659 | D8: 0.084605064 | E8: 0.083665833 | F8: 0.087751492 | G8: 0.08965313 | H8: 0.099258962 | I8: 0.097075092 | J8: 0.081999006 | K8: 0.08086342 | L8: 0.069006018 | M8: 0.072191047 | N8: =SUM(B8:M8) -> 1 | O8: =IF(N8=100%,"Ok","Da verificare") -> Ok
A9: =A8-1 -> 2021 | B9: 0.078086276 | C9: 0.075844659 | D9: 0.084605064 | E9: 0.083665833 | F9: 0.087751492 | G9: 0.08965313 | H9: 0.099258962 | I9: 0.097075092 | J9: 0.081999006 | K9: 0.08086342 | L9: 0.069006018 | M9: 0.072191047 | N9: =SUM(B9:M9) -> 1 | O9: =IF(N9=100%,"Ok","Da verificare") -> Ok
A10: Average | B10: =AVERAGE(B6:B9) -> 0.078086276 | C10: =AVERAGE(C6:C9) -> 0.075844659 | D10: =AVERAGE(D6:D9) -> 0.084605064 | E10: =AVERAGE(E6:E9) -> 0.083665833 | F10: =AVERAGE(F6:F9) -> 0.087751492 | G10: =AVERAGE(G6:G9) -> 0.08965313 | H10: =AVERAGE(H6:H9) -> 0.099258962 | I10: =AVERAGE(I6:I9) -> 0.097075092 | ... M10: =AVERAGE(M6:M9) -> 0.072191047 | N10: =SUM(B10:M10) -> 1 | O10: =IF(N10=100%,"Ok","Da verificare") -> Ok
A11: Varianza | B11: =VAR(B6:B9) -> 0 | C11: =VAR(C6:C9) -> 0 | D11: =VAR(D6:D9) -> 0 | E11: =VAR(E6:E9) -> 0 | F11: =VAR(F6:F9) -> 0 | G11: =VAR(G6:G9) -> 0 | H11: =VAR(H6:H9) -> 0 | I11: =VAR(I6:I9) -> 0 | ... N11: =VAR(N6:N9) -> 0 | O11: //
A13: ='W Plur.'!B5 -> 2025 | B13: =B5 -> January | C13: =C5 -> February | D13: =D5 -> March | E13: =E5 -> April | F13: =F5 -> May | G13: =G5 -> June | H13: =H5 -> July | I13: =I5 -> August | ... N13: =N5 -> Sum | O13: DSO
A14: ='W Plur.'!A107 -> Revenues before lunch | B14: =IF($M$3="Quantità vendute",'W Plur.'!$B92*'W. Month'!B$10,IF($M$3="Ricavi Generati",'W Plur.'!$B107*'W. Month'!B$10)) -> 28552.602 | C14: =IF($M$3="Quantità vendute",'W Plur.'!$B92*'W. Month'!C$10,IF($M$3="Ricavi Generati",'W Plur.'!$B107*'W. Month'!C$10)) -> 27732.944 | D14: =IF($M$3="Quantità vendute",'W Plur.'!$B92*'W. Month'!D$10,IF($M$3="Ricavi Generati",'W Plur.'!$B107*'W. Month'!D$10)) -> 30936.226 | E14: =IF($M$3="Quantità vendute",'W Plur.'!$B92*'W. Month'!E$10,IF($M$3="Ricavi Generati",'W Plur.'!$B107*'W. Month'!E$10)) -> 30592.792 | F14: =IF($M$3="Quantità vendute",'W Plur.'!$B92*'W. Month'!F$10,IF($M$3="Ricavi Generati",'W Plur.'!$B107*'W. Month'!F$10)) -> 32086.732 | G14: =IF($M$3="Quantità vendute",'W Plur.'!$B92*'W. Month'!G$10,IF($M$3="Ricavi Generati",'W Plur.'!$B107*'W. Month'!G$10)) -> 32782.075 | H14: =IF($M$3="Quantità vendute",'W Plur.'!$B92*'W. Month'!H$10,IF($M$3="Ricavi Generati",'W Plur.'!$B107*'W. Month'!H$10)) -> 36294.491 | I14: =IF($M$3="Quantità vendute",'W Plur.'!$B92*'W. Month'!I$10,IF($M$3="Ricavi Generati",'W Plur.'!$B107*'W. Month'!I$10)) -> 35495.949 | ... M14: =IF($M$3="Quantità vendute",'W Plur.'!$B92*'W. Month'!M$10,IF($M$3="Ricavi Generati",'W Plur.'!$B107*'W. Month'!M$10)) -> 26396.985 | N14: =SUM(B14:M14) -> 365654.55 | O14: ='Controll Panel'!B7 -> 0
A15: ='W Plur.'!A108 -> Revenues during lunch | B15: =IF($M$3="Quantità vendute",'W Plur.'!$B93*'W. Month'!B$10,IF($M$3="Ricavi Generati",'W Plur.'!$B108*'W. Month'!B$10)) -> 20154.778 | C15: =IF($M$3="Quantità vendute",'W Plur.'!$B93*'W. Month'!C$10,IF($M$3="Ricavi Generati",'W Plur.'!$B108*'W. Month'!C$10)) -> 19576.196 | D15: =IF($M$3="Quantità vendute",'W Plur.'!$B93*'W. Month'!D$10,IF($M$3="Ricavi Generati",'W Plur.'!$B108*'W. Month'!D$10)) -> 21837.336 | E15: =IF($M$3="Quantità vendute",'W Plur.'!$B93*'W. Month'!E$10,IF($M$3="Ricavi Generati",'W Plur.'!$B108*'W. Month'!E$10)) -> 21594.912 | F15: =IF($M$3="Quantità vendute",'W Plur.'!$B93*'W. Month'!F$10,IF($M$3="Ricavi Generati",'W Plur.'!$B108*'W. Month'!F$10)) -> 22649.458 | G15: =IF($M$3="Quantità vendute",'W Plur.'!$B93*'W. Month'!G$10,IF($M$3="Ricavi Generati",'W Plur.'!$B108*'W. Month'!G$10)) -> 23140.288 | H15: =IF($M$3="Quantità vendute",'W Plur.'!$B93*'W. Month'!H$10,IF($M$3="Ricavi Generati",'W Plur.'!$B108*'W. Month'!H$10)) -> 25619.641 | I15: =IF($M$3="Quantità vendute",'W Plur.'!$B93*'W. Month'!I$10,IF($M$3="Ricavi Generati",'W Plur.'!$B108*'W. Month'!I$10)) -> 25055.964 | ... M15: =IF($M$3="Quantità vendute",'W Plur.'!$B93*'W. Month'!M$10,IF($M$3="Ricavi Generati",'W Plur.'!$B108*'W. Month'!M$10)) -> 18633.166 | N15: =SUM(B15:M15) -> 258109.09 | O15: =O14 -> 0
A16: ='W Plur.'!A109 -> Revenues after lunch | B16: =IF($M$3="Quantità vendute",'W Plur.'!$B94*'W. Month'!B$10,IF($M$3="Ricavi Generati",'W Plur.'!$B109*'W. Month'!B$10)) -> 7235.0484 | C16: =IF($M$3="Quantità vendute",'W Plur.'!$B94*'W. Month'!C$10,IF($M$3="Ricavi Generati",'W Plur.'!$B109*'W. Month'!C$10)) -> 7027.3524 | D16: =IF($M$3="Quantità vendute",'W Plur.'!$B94*'W. Month'!D$10,IF($M$3="Ricavi Generati",'W Plur.'!$B109*'W. Month'!D$10)) -> 7839.0437 | E16: =IF($M$3="Quantità vendute",'W Plur.'!$B94*'W. Month'!E$10,IF($M$3="Ricavi Generati",'W Plur.'!$B109*'W. Month'!E$10)) -> 7752.0198 | F16: =IF($M$3="Quantità vendute",'W Plur.'!$B94*'W. Month'!F$10,IF($M$3="Ricavi Generati",'W Plur.'!$B109*'W. Month'!F$10)) -> 8130.5746 | G16: =IF($M$3="Quantità vendute",'W Plur.'!$B94*'W. Month'!G$10,IF($M$3="Ricavi Generati",'W Plur.'!$B109*'W. Month'!G$10)) -> 8306.77 | H16: =IF($M$3="Quantità vendute",'W Plur.'!$B94*'W. Month'!H$10,IF($M$3="Ricavi Generati",'W Plur.'!$B109*'W. Month'!H$10)) -> 9196.794 | I16: =IF($M$3="Quantità vendute",'W Plur.'!$B94*'W. Month'!I$10,IF($M$3="Ricavi Generati",'W Plur.'!$B109*'W. Month'!I$10)) -> 8994.4485 | ... M16: =IF($M$3="Quantità vendute",'W Plur.'!$B94*'W. Month'!M$10,IF($M$3="Ricavi Generati",'W Plur.'!$B109*'W. Month'!M$10)) -> 6688.8287 | N16: =SUM(B16:M16) -> 92654.545 | O16: =O15 -> 0
A17: ='W Plur.'!A110 -> Revenues during dinner | B17: =IF($M$3="Quantità vendute",'W Plur.'!$B95*'W. Month'!B$10,IF($M$3="Ricavi Generati",'W Plur.'!$B110*'W. Month'!B$10)) -> 2894.0194 | C17: =IF($M$3="Quantità vendute",'W Plur.'!$B95*'W. Month'!C$10,IF($M$3="Ricavi Generati",'W Plur.'!$B110*'W. Month'!C$10)) -> 2810.9409 | D17: =IF($M$3="Quantità vendute",'W Plur.'!$B95*'W. Month'!D$10,IF($M$3="Ricavi Generati",'W Plur.'!$B110*'W. Month'!D$10)) -> 3135.6175 | E17: =IF($M$3="Quantità vendute",'W Plur.'!$B95*'W. Month'!E$10,IF($M$3="Ricavi Generati",'W Plur.'!$B110*'W. Month'!E$10)) -> 3100.8079 | F17: =IF($M$3="Quantità vendute",'W Plur.'!$B95*'W. Month'!F$10,IF($M$3="Ricavi Generati",'W Plur.'!$B110*'W. Month'!F$10)) -> 3252.2298 | G17: =IF($M$3="Quantità vendute",'W Plur.'!$B95*'W. Month'!G$10,IF($M$3="Ricavi Generati",'W Plur.'!$B110*'W. Month'!G$10)) -> 3322.708 | H17: =IF($M$3="Quantità vendute",'W Plur.'!$B95*'W. Month'!H$10,IF($M$3="Ricavi Generati",'W Plur.'!$B110*'W. Month'!H$10)) -> 3678.7176 | I17: =IF($M$3="Quantità vendute",'W Plur.'!$B95*'W. Month'!I$10,IF($M$3="Ricavi Generati",'W Plur.'!$B110*'W. Month'!I$10)) -> 3597.7794 | ... M17: =IF($M$3="Quantità vendute",'W Plur.'!$B95*'W. Month'!M$10,IF($M$3="Ricavi Generati",'W Plur.'!$B110*'W. Month'!M$10)) -> 2675.5315 | N17: =SUM(B17:M17) -> 37061.818 | O17: =O16 -> 0
A18: ='W Plur.'!A111 -> // | B18: =IF($M$3="Quantità vendute",'W Plur.'!$B96*'W. Month'!B$10,IF($M$3="Ricavi Generati",'W Plur.'!$B111*'W. Month'!B$10)) -> 0 | C18: =IF($M$3="Quantità vendute",'W Plur.'!$B96*'W. Month'!C$10,IF($M$3="Ricavi Generati",'W Plur.'!$B111*'W. Month'!C$10)) -> 0 | D18: =IF($M$3="Quantità vendute",'W Plur.'!$B96*'W. Month'!D$10,IF($M$3="Ricavi Generati",'W Plur.'!$B111*'W. Month'!D$10)) -> 0 | E18: =IF($M$3="Quantità vendute",'W Plur.'!$B96*'W. Month'!E$10,IF($M$3="Ricavi Generati",'W Plur.'!$B111*'W. Month'!E$10)) -> 0 | F18: =IF($M$3="Quantità vendute",'W Plur.'!$B96*'W. Month'!F$10,IF($M$3="Ricavi Generati",'W Plur.'!$B111*'W. Month'!F$10)) -> 0 | G18: =IF($M$3="Quantità vendute",'W Plur.'!$B96*'W. Month'!G$10,IF($M$3="Ricavi Generati",'W Plur.'!$B111*'W. Month'!G$10)) -> 0 | H18: =IF($M$3="Quantità vendute",'W Plur.'!$B96*'W. Month'!H$10,IF($M$3="Ricavi Generati",'W Plur.'!$B111*'W. Month'!H$10)) -> 0 | I18: =IF($M$3="Quantità vendute",'W Plur.'!$B96*'W. Month'!I$10,IF($M$3="Ricavi Generati",'W Plur.'!$B111*'W. Month'!I$10)) -> 0 | ... M18: =IF($M$3="Quantità vendute",'W Plur.'!$B96*'W. Month'!M$10,IF($M$3="Ricavi Generati",'W Plur.'!$B111*'W. Month'!M$10)) -> 0 | N18: =SUM(B18:M18) -> 0 | O18: =O17 -> 0
A19: ='W Plur.'!A112 -> // | B19: =IF($M$3="Quantità vendute",'W Plur.'!$B97*'W. Month'!B$10,IF($M$3="Ricavi Generati",'W Plur.'!$B112*'W. Month'!B$10)) -> 0 | C19: =IF($M$3="Quantità vendute",'W Plur.'!$B97*'W. Month'!C$10,IF($M$3="Ricavi Generati",'W Plur.'!$B112*'W. Month'!C$10)) -> 0 | D19: =IF($M$3="Quantità vendute",'W Plur.'!$B97*'W. Month'!D$10,IF($M$3="Ricavi Generati",'W Plur.'!$B112*'W. Month'!D$10)) -> 0 | E19: =IF($M$3="Quantità vendute",'W Plur.'!$B97*'W. Month'!E$10,IF($M$3="Ricavi Generati",'W Plur.'!$B112*'W. Month'!E$10)) -> 0 | F19: =IF($M$3="Quantità vendute",'W Plur.'!$B97*'W. Month'!F$10,IF($M$3="Ricavi Generati",'W Plur.'!$B112*'W. Month'!F$10)) -> 0 | G19: =IF($M$3="Quantità vendute",'W Plur.'!$B97*'W. Month'!G$10,IF($M$3="Ricavi Generati",'W Plur.'!$B112*'W. Month'!G$10)) -> 0 | H19: =IF($M$3="Quantità vendute",'W Plur.'!$B97*'W. Month'!H$10,IF($M$3="Ricavi Generati",'W Plur.'!$B112*'W. Month'!H$10)) -> 0 | I19: =IF($M$3="Quantità vendute",'W Plur.'!$B97*'W. Month'!I$10,IF($M$3="Ricavi Generati",'W Plur.'!$B112*'W. Month'!I$10)) -> 0 | ... M19: =IF($M$3="Quantità vendute",'W Plur.'!$B97*'W. Month'!M$10,IF($M$3="Ricavi Generati",'W Plur.'!$B112*'W. Month'!M$10)) -> 0 | N19: =SUM(B19:M19) -> 0 | O19: =O18 -> 0
A20: ='W Plur.'!A113 -> // | B20: =IF($M$3="Quantità vendute",'W Plur.'!$B98*'W. Month'!B$10,IF($M$3="Ricavi Generati",'W Plur.'!$B113*'W. Month'!B$10)) -> 0 | C20: =IF($M$3="Quantità vendute",'W Plur.'!$B98*'W. Month'!C$10,IF($M$3="Ricavi Generati",'W Plur.'!$B113*'W. Month'!C$10)) -> 0 | D20: =IF($M$3="Quantità vendute",'W Plur.'!$B98*'W. Month'!D$10,IF($M$3="Ricavi Generati",'W Plur.'!$B113*'W. Month'!D$10)) -> 0 | E20: =IF($M$3="Quantità vendute",'W Plur.'!$B98*'W. Month'!E$10,IF($M$3="Ricavi Generati",'W Plur.'!$B113*'W. Month'!E$10)) -> 0 | F20: =IF($M$3="Quantità vendute",'W Plur.'!$B98*'W. Month'!F$10,IF($M$3="Ricavi Generati",'W Plur.'!$B113*'W. Month'!F$10)) -> 0 | G20: =IF($M$3="Quantità vendute",'W Plur.'!$B98*'W. Month'!G$10,IF($M$3="Ricavi Generati",'W Plur.'!$B113*'W. Month'!G$10)) -> 0 | H20: =IF($M$3="Quantità vendute",'W Plur.'!$B98*'W. Month'!H$10,IF($M$3="Ricavi Generati",'W Plur.'!$B113*'W. Month'!H$10)) -> 0 | I20: =IF($M$3="Quantità vendute",'W Plur.'!$B98*'W. Month'!I$10,IF($M$3="Ricavi Generati",'W Plur.'!$B113*'W. Month'!I$10)) -> 0 | ... M20: =IF($M$3="Quantità vendute",'W Plur.'!$B98*'W. Month'!M$10,IF($M$3="Ricavi Generati",'W Plur.'!$B113*'W. Month'!M$10)) -> 0 | N20: =SUM(B20:M20) -> 0 | O20: =O19 -> 0
A21: ='W Plur.'!A114 -> // | B21: =IF($M$3="Quantità vendute",'W Plur.'!$B99*'W. Month'!B$10,IF($M$3="Ricavi Generati",'W Plur.'!$B114*'W. Month'!B$10)) -> 0 | C21: =IF($M$3="Quantità vendute",'W Plur.'!$B99*'W. Month'!C$10,IF($M$3="Ricavi Generati",'W Plur.'!$B114*'W. Month'!C$10)) -> 0 | D21: =IF($M$3="Quantità vendute",'W Plur.'!$B99*'W. Month'!D$10,IF($M$3="Ricavi Generati",'W Plur.'!$B114*'W. Month'!D$10)) -> 0 | E21: =IF($M$3="Quantità vendute",'W Plur.'!$B99*'W. Month'!E$10,IF($M$3="Ricavi Generati",'W Plur.'!$B114*'W. Month'!E$10)) -> 0 | F21: =IF($M$3="Quantità vendute",'W Plur.'!$B99*'W. Month'!F$10,IF($M$3="Ricavi Generati",'W Plur.'!$B114*'W. Month'!F$10)) -> 0 | G21: =IF($M$3="Quantità vendute",'W Plur.'!$B99*'W. Month'!G$10,IF($M$3="Ricavi Generati",'W Plur.'!$B114*'W. Month'!G$10)) -> 0 | H21: =IF($M$3="Quantità vendute",'W Plur.'!$B99*'W. Month'!H$10,IF($M$3="Ricavi Generati",'W Plur.'!$B114*'W. Month'!H$10)) -> 0 | I21: =IF($M$3="Quantità vendute",'W Plur.'!$B99*'W. Month'!I$10,IF($M$3="Ricavi Generati",'W Plur.'!$B114*'W. Month'!I$10)) -> 0 | ... M21: =IF($M$3="Quantità vendute",'W Plur.'!$B99*'W. Month'!M$10,IF($M$3="Ricavi Generati",'W Plur.'!$B114*'W. Month'!M$10)) -> 0 | N21: =SUM(B21:M21) -> 0 | O21: =O20 -> 0
A22: ='W Plur.'!A115 -> // | B22: =IF($M$3="Quantità vendute",'W Plur.'!$B100*'W. Month'!B$10,IF($M$3="Ricavi Generati",'W Plur.'!$B115*'W. Month'!B$10)) -> 0 | C22: =IF($M$3="Quantità vendute",'W Plur.'!$B100*'W. Month'!C$10,IF($M$3="Ricavi Generati",'W Plur.'!$B115*'W. Month'!C$10)) -> 0 | D22: =IF($M$3="Quantità vendute",'W Plur.'!$B100*'W. Month'!D$10,IF($M$3="Ricavi Generati",'W Plur.'!$B115*'W. Month'!D$10)) -> 0 | E22: =IF($M$3="Quantità vendute",'W Plur.'!$B100*'W. Month'!E$10,IF($M$3="Ricavi Generati",'W Plur.'!$B115*'W. Month'!E$10)) -> 0 | F22: =IF($M$3="Quantità vendute",'W Plur.'!$B100*'W. Month'!F$10,IF($M$3="Ricavi Generati",'W Plur.'!$B115*'W. Month'!F$10)) -> 0 | G22: =IF($M$3="Quantità vendute",'W Plur.'!$B100*'W. Month'!G$10,IF($M$3="Ricavi Generati",'W Plur.'!$B115*'W. Month'!G$10)) -> 0 | H22: =IF($M$3="Quantità vendute",'W Plur.'!$B100*'W. Month'!H$10,IF($M$3="Ricavi Generati",'W Plur.'!$B115*'W. Month'!H$10)) -> 0 | I22: =IF($M$3="Quantità vendute",'W Plur.'!$B100*'W. Month'!I$10,IF($M$3="Ricavi Generati",'W Plur.'!$B115*'W. Month'!I$10)) -> 0 | ... M22: =IF($M$3="Quantità vendute",'W Plur.'!$B100*'W. Month'!M$10,IF($M$3="Ricavi Generati",'W Plur.'!$B115*'W. Month'!M$10)) -> 0 | N22: =SUM(B22:M22) -> 0 | O22: =O21 -> 0
A23: ='W Plur.'!A116 -> // | B23: =IF($M$3="Quantità vendute",'W Plur.'!$B101*'W. Month'!B$10,IF($M$3="Ricavi Generati",'W Plur.'!$B116*'W. Month'!B$10)) -> 0 | C23: =IF($M$3="Quantità vendute",'W Plur.'!$B101*'W. Month'!C$10,IF($M$3="Ricavi Generati",'W Plur.'!$B116*'W. Month'!C$10)) -> 0 | D23: =IF($M$3="Quantità vendute",'W Plur.'!$B101*'W. Month'!D$10,IF($M$3="Ricavi Generati",'W Plur.'!$B116*'W. Month'!D$10)) -> 0 | E23: =IF($M$3="Quantità vendute",'W Plur.'!$B101*'W. Month'!E$10,IF($M$3="Ricavi Generati",'W Plur.'!$B116*'W. Month'!E$10)) -> 0 | F23: =IF($M$3="Quantità vendute",'W Plur.'!$B101*'W. Month'!F$10,IF($M$3="Ricavi Generati",'W Plur.'!$B116*'W. Month'!F$10)) -> 0 | G23: =IF($M$3="Quantità vendute",'W Plur.'!$B101*'W. Month'!G$10,IF($M$3="Ricavi Generati",'W Plur.'!$B116*'W. Month'!G$10)) -> 0 | H23: =IF($M$3="Quantità vendute",'W Plur.'!$B101*'W. Month'!H$10,IF($M$3="Ricavi Generati",'W Plur.'!$B116*'W. Month'!H$10)) -> 0 | I23: =IF($M$3="Quantità vendute",'W Plur.'!$B101*'W. Month'!I$10,IF($M$3="Ricavi Generati",'W Plur.'!$B116*'W. Month'!I$10)) -> 0 | ... M23: =IF($M$3="Quantità vendute",'W Plur.'!$B101*'W. Month'!M$10,IF($M$3="Ricavi Generati",'W Plur.'!$B116*'W. Month'!M$10)) -> 0 | N23: =SUM(B23:M23) -> 0 | O23: =O22 -> 0
A24: ='W Plur.'!A117 -> // | B24: =IF($M$3="Quantità vendute",'W Plur.'!$B102*'W. Month'!B$10,IF($M$3="Ricavi Generati",'W Plur.'!$B117*'W. Month'!B$10)) -> 0 | C24: =IF($M$3="Quantità vendute",'W Plur.'!$B102*'W. Month'!C$10,IF($M$3="Ricavi Generati",'W Plur.'!$B117*'W. Month'!C$10)) -> 0 | D24: =IF($M$3="Quantità vendute",'W Plur.'!$B102*'W. Month'!D$10,IF($M$3="Ricavi Generati",'W Plur.'!$B117*'W. Month'!D$10)) -> 0 | E24: =IF($M$3="Quantità vendute",'W Plur.'!$B102*'W. Month'!E$10,IF($M$3="Ricavi Generati",'W Plur.'!$B117*'W. Month'!E$10)) -> 0 | F24: =IF($M$3="Quantità vendute",'W Plur.'!$B102*'W. Month'!F$10,IF($M$3="Ricavi Generati",'W Plur.'!$B117*'W. Month'!F$10)) -> 0 | G24: =IF($M$3="Quantità vendute",'W Plur.'!$B102*'W. Month'!G$10,IF($M$3="Ricavi Generati",'W Plur.'!$B117*'W. Month'!G$10)) -> 0 | H24: =IF($M$3="Quantità vendute",'W Plur.'!$B102*'W. Month'!H$10,IF($M$3="Ricavi Generati",'W Plur.'!$B117*'W. Month'!H$10)) -> 0 | I24: =IF($M$3="Quantità vendute",'W Plur.'!$B102*'W. Month'!I$10,IF($M$3="Ricavi Generati",'W Plur.'!$B117*'W. Month'!I$10)) -> 0 | ... M24: =IF($M$3="Quantità vendute",'W Plur.'!$B102*'W. Month'!M$10,IF($M$3="Ricavi Generati",'W Plur.'!$B117*'W. Month'!M$10)) -> 0 | N24: =SUM(B24:M24) -> 0 | O24: =O23 -> 0
A25: ='W Plur.'!A118 -> // | B25: =IF($M$3="Quantità vendute",'W Plur.'!$B103*'W. Month'!B$10,IF($M$3="Ricavi Generati",'W Plur.'!$B118*'W. Month'!B$10)) -> 0 | C25: =IF($M$3="Quantità vendute",'W Plur.'!$B103*'W. Month'!C$10,IF($M$3="Ricavi Generati",'W Plur.'!$B118*'W. Month'!C$10)) -> 0 | D25: =IF($M$3="Quantità vendute",'W Plur.'!$B103*'W. Month'!D$10,IF($M$3="Ricavi Generati",'W Plur.'!$B118*'W. Month'!D$10)) -> 0 | E25: =IF($M$3="Quantità vendute",'W Plur.'!$B103*'W. Month'!E$10,IF($M$3="Ricavi Generati",'W Plur.'!$B118*'W. Month'!E$10)) -> 0 | F25: =IF($M$3="Quantità vendute",'W Plur.'!$B103*'W. Month'!F$10,IF($M$3="Ricavi Generati",'W Plur.'!$B118*'W. Month'!F$10)) -> 0 | G25: =IF($M$3="Quantità vendute",'W Plur.'!$B103*'W. Month'!G$10,IF($M$3="Ricavi Generati",'W Plur.'!$B118*'W. Month'!G$10)) -> 0 | H25: =IF($M$3="Quantità vendute",'W Plur.'!$B103*'W. Month'!H$10,IF($M$3="Ricavi Generati",'W Plur.'!$B118*'W. Month'!H$10)) -> 0 | I25: =IF($M$3="Quantità vendute",'W Plur.'!$B103*'W. Month'!I$10,IF($M$3="Ricavi Generati",'W Plur.'!$B118*'W. Month'!I$10)) -> 0 | ... M25: =IF($M$3="Quantità vendute",'W Plur.'!$B103*'W. Month'!M$10,IF($M$3="Ricavi Generati",'W Plur.'!$B118*'W. Month'!M$10)) -> 0 | N25: =SUM(B25:M25) -> 0 | O25: =O24 -> 0
A26: ='W Plur.'!A119 -> Total | B26: =SUM(B14:B25) -> 58836.447 | C26: =SUM(C14:C25) -> 57147.433 | D26: =SUM(D14:D25) -> 63748.224 | E26: =SUM(E14:E25) -> 63040.532 | F26: =SUM(F14:F25) -> 66118.994 | G26: =SUM(G14:G25) -> 67551.841 | H26: =SUM(H14:H25) -> 74789.643 | I26: =SUM(I14:I25) -> 73144.14 | ... M26: =SUM(M14:M25) -> 54394.51 | N26: =SUM(B26:M26) -> 753480 | O26: =AVERAGE(O14:O25) -> 0
A28: ='W Plur.'!C5 -> 2026 | B28: =B13 -> January | C28: =C13 -> February | D28: =D13 -> March | E28: =E13 -> April | F28: =F13 -> May | G28: =G13 -> June | H28: =H13 -> July | I28: =I13 -> August | ... N28: =N13 -> Sum | O28: DSO
A29: =A14 -> Revenues before lunch | B29: =IF($M$3="Quantità vendute",'W Plur.'!$C92*'W. Month'!B$10,IF($M$3="Ricavi Generati",'W Plur.'!$C107*'W. Month'!B$10)) -> 30836.81 | C29: =IF($M$3="Quantità vendute",'W Plur.'!$C92*'W. Month'!C$10,IF($M$3="Ricavi Generati",'W Plur.'!$C107*'W. Month'!C$10)) -> 29951.58 | D29: =IF($M$3="Quantità vendute",'W Plur.'!$C92*'W. Month'!D$10,IF($M$3="Ricavi Generati",'W Plur.'!$C107*'W. Month'!D$10)) -> 33411.124 | E29: =IF($M$3="Quantità vendute",'W Plur.'!$C92*'W. Month'!E$10,IF($M$3="Ricavi Generati",'W Plur.'!$C107*'W. Month'!E$10)) -> 33040.216 | F29: =IF($M$3="Quantità vendute",'W Plur.'!$C92*'W. Month'!F$10,IF($M$3="Ricavi Generati",'W Plur.'!$C107*'W. Month'!F$10)) -> 34653.67 | G29: =IF($M$3="Quantità vendute",'W Plur.'!$C92*'W. Month'!G$10,IF($M$3="Ricavi Generati",'W Plur.'!$C107*'W. Month'!G$10)) -> 35404.641 | H29: =IF($M$3="Quantità vendute",'W Plur.'!$C92*'W. Month'!H$10,IF($M$3="Ricavi Generati",'W Plur.'!$C107*'W. Month'!H$10)) -> 39198.05 | I29: =IF($M$3="Quantità vendute",'W Plur.'!$C92*'W. Month'!I$10,IF($M$3="Ricavi Generati",'W Plur.'!$C107*'W. Month'!I$10)) -> 38335.625 | ... M29: =IF($M$3="Quantità vendute",'W Plur.'!$C92*'W. Month'!M$10,IF($M$3="Ricavi Generati",'W Plur.'!$C107*'W. Month'!M$10)) -> 28508.743 | N29: =SUM(B29:M29) -> 394906.91 | O29: ='Controll Panel'!C7 -> 0
A30: =A15 -> Revenues during lunch | B30: =IF($M$3="Quantità vendute",'W Plur.'!$C93*'W. Month'!B$10,IF($M$3="Ricavi Generati",'W Plur.'!$C108*'W. Month'!B$10)) -> 21585.767 | C30: =IF($M$3="Quantità vendute",'W Plur.'!$C93*'W. Month'!C$10,IF($M$3="Ricavi Generati",'W Plur.'!$C108*'W. Month'!C$10)) -> 20966.106 | D30: =IF($M$3="Quantità vendute",'W Plur.'!$C93*'W. Month'!D$10,IF($M$3="Ricavi Generati",'W Plur.'!$C108*'W. Month'!D$10)) -> 23387.787 | E30: =IF($M$3="Quantità vendute",'W Plur.'!$C93*'W. Month'!E$10,IF($M$3="Ricavi Generati",'W Plur.'!$C108*'W. Month'!E$10)) -> 23128.151 | F30: =IF($M$3="Quantità vendute",'W Plur.'!$C93*'W. Month'!F$10,IF($M$3="Ricavi Generati",'W Plur.'!$C108*'W. Month'!F$10)) -> 24257.569 | G30: =IF($M$3="Quantità vendute",'W Plur.'!$C93*'W. Month'!G$10,IF($M$3="Ricavi Generati",'W Plur.'!$C108*'W. Month'!G$10)) -> 24783.248 | H30: =IF($M$3="Quantità vendute",'W Plur.'!$C93*'W. Month'!H$10,IF($M$3="Ricavi Generati",'W Plur.'!$C108*'W. Month'!H$10)) -> 27438.635 | I30: =IF($M$3="Quantità vendute",'W Plur.'!$C93*'W. Month'!I$10,IF($M$3="Ricavi Generati",'W Plur.'!$C108*'W. Month'!I$10)) -> 26834.937 | ... M30: =IF($M$3="Quantità vendute",'W Plur.'!$C93*'W. Month'!M$10,IF($M$3="Ricavi Generati",'W Plur.'!$C108*'W. Month'!M$10)) -> 19956.12 | N30: =SUM(B30:M30) -> 276434.84 | O30: =O29 -> 0
A31: =A16 -> Revenues after lunch | B31: =IF($M$3="Quantità vendute",'W Plur.'!$C94*'W. Month'!B$10,IF($M$3="Ricavi Generati",'W Plur.'!$C109*'W. Month'!B$10)) -> 7748.7369 | C31: =IF($M$3="Quantità vendute",'W Plur.'!$C94*'W. Month'!C$10,IF($M$3="Ricavi Generati",'W Plur.'!$C109*'W. Month'!C$10)) -> 7526.2944 | D31: =IF($M$3="Quantità vendute",'W Plur.'!$C94*'W. Month'!D$10,IF($M$3="Ricavi Generati",'W Plur.'!$C109*'W. Month'!D$10)) -> 8395.6158 | E31: =IF($M$3="Quantità vendute",'W Plur.'!$C94*'W. Month'!E$10,IF($M$3="Ricavi Generati",'W Plur.'!$C109*'W. Month'!E$10)) -> 8302.4132 | F31: =IF($M$3="Quantità vendute",'W Plur.'!$C94*'W. Month'!F$10,IF($M$3="Ricavi Generati",'W Plur.'!$C109*'W. Month'!F$10)) -> 8707.8454 | G31: =IF($M$3="Quantità vendute",'W Plur.'!$C94*'W. Month'!G$10,IF($M$3="Ricavi Generati",'W Plur.'!$C109*'W. Month'!G$10)) -> 8896.5507 | H31: =IF($M$3="Quantità vendute",'W Plur.'!$C94*'W. Month'!H$10,IF($M$3="Ricavi Generati",'W Plur.'!$C109*'W. Month'!H$10)) -> 9849.7664 | I31: =IF($M$3="Quantità vendute",'W Plur.'!$C94*'W. Month'!I$10,IF($M$3="Ricavi Generati",'W Plur.'!$C109*'W. Month'!I$10)) -> 9633.0544 | ... M31: =IF($M$3="Quantità vendute",'W Plur.'!$C94*'W. Month'!M$10,IF($M$3="Ricavi Generati",'W Plur.'!$C109*'W. Month'!M$10)) -> 7163.7355 | N31: =SUM(B31:M31) -> 99233.018 | O31: =O30 -> 0
A32: =A17 -> Revenues during dinner | B32: =IF($M$3="Quantità vendute",'W Plur.'!$C95*'W. Month'!B$10,IF($M$3="Ricavi Generati",'W Plur.'!$C110*'W. Month'!B$10)) -> 2951.8998 | C32: =IF($M$3="Quantità vendute",'W Plur.'!$C95*'W. Month'!C$10,IF($M$3="Ricavi Generati",'W Plur.'!$C110*'W. Month'!C$10)) -> 2867.1598 | D32: =IF($M$3="Quantità vendute",'W Plur.'!$C95*'W. Month'!D$10,IF($M$3="Ricavi Generati",'W Plur.'!$C110*'W. Month'!D$10)) -> 3198.3298 | E32: =IF($M$3="Quantità vendute",'W Plur.'!$C95*'W. Month'!E$10,IF($M$3="Ricavi Generati",'W Plur.'!$C110*'W. Month'!E$10)) -> 3162.8241 | F32: =IF($M$3="Quantità vendute",'W Plur.'!$C95*'W. Month'!F$10,IF($M$3="Ricavi Generati",'W Plur.'!$C110*'W. Month'!F$10)) -> 3317.2744 | G32: =IF($M$3="Quantità vendute",'W Plur.'!$C95*'W. Month'!G$10,IF($M$3="Ricavi Generati",'W Plur.'!$C110*'W. Month'!G$10)) -> 3389.1622 | H32: =IF($M$3="Quantità vendute",'W Plur.'!$C95*'W. Month'!H$10,IF($M$3="Ricavi Generati",'W Plur.'!$C110*'W. Month'!H$10)) -> 3752.292 | I32: =IF($M$3="Quantità vendute",'W Plur.'!$C95*'W. Month'!I$10,IF($M$3="Ricavi Generati",'W Plur.'!$C110*'W. Month'!I$10)) -> 3669.735 | ... M32: =IF($M$3="Quantità vendute",'W Plur.'!$C95*'W. Month'!M$10,IF($M$3="Ricavi Generati",'W Plur.'!$C110*'W. Month'!M$10)) -> 2729.0421 | N32: =SUM(B32:M32) -> 37803.055 | O32: =O31 -> 0
A33: =A18 -> // | B33: =IF($M$3="Quantità vendute",'W Plur.'!$C96*'W. Month'!B$10,IF($M$3="Ricavi Generati",'W Plur.'!$C111*'W. Month'!B$10)) -> 0 | C33: =IF($M$3="Quantità vendute",'W Plur.'!$C96*'W. Month'!C$10,IF($M$3="Ricavi Generati",'W Plur.'!$C111*'W. Month'!C$10)) -> 0 | D33: =IF($M$3="Quantità vendute",'W Plur.'!$C96*'W. Month'!D$10,IF($M$3="Ricavi Generati",'W Plur.'!$C111*'W. Month'!D$10)) -> 0 | E33: =IF($M$3="Quantità vendute",'W Plur.'!$C96*'W. Month'!E$10,IF($M$3="Ricavi Generati",'W Plur.'!$C111*'W. Month'!E$10)) -> 0 | F33: =IF($M$3="Quantità vendute",'W Plur.'!$C96*'W. Month'!F$10,IF($M$3="Ricavi Generati",'W Plur.'!$C111*'W. Month'!F$10)) -> 0 | G33: =IF($M$3="Quantità vendute",'W Plur.'!$C96*'W. Month'!G$10,IF($M$3="Ricavi Generati",'W Plur.'!$C111*'W. Month'!G$10)) -> 0 | H33: =IF($M$3="Quantità vendute",'W Plur.'!$C96*'W. Month'!H$10,IF($M$3="Ricavi Generati",'W Plur.'!$C111*'W. Month'!H$10)) -> 0 | I33: =IF($M$3="Quantità vendute",'W Plur.'!$C96*'W. Month'!I$10,IF($M$3="Ricavi Generati",'W Plur.'!$C111*'W. Month'!I$10)) -> 0 | ... M33: =IF($M$3="Quantità vendute",'W Plur.'!$C96*'W. Month'!M$10,IF($M$3="Ricavi Generati",'W Plur.'!$C111*'W. Month'!M$10)) -> 0 | N33: =SUM(B33:M33) -> 0 | O33: =O32 -> 0
A34: =A19 -> // | B34: =IF($M$3="Quantità vendute",'W Plur.'!$C97*'W. Month'!B$10,IF($M$3="Ricavi Generati",'W Plur.'!$C112*'W. Month'!B$10)) -> 0 | C34: =IF($M$3="Quantità vendute",'W Plur.'!$C97*'W. Month'!C$10,IF($M$3="Ricavi Generati",'W Plur.'!$C112*'W. Month'!C$10)) -> 0 | D34: =IF($M$3="Quantità vendute",'W Plur.'!$C97*'W. Month'!D$10,IF($M$3="Ricavi Generati",'W Plur.'!$C112*'W. Month'!D$10)) -> 0 | E34: =IF($M$3="Quantità vendute",'W Plur.'!$C97*'W. Month'!E$10,IF($M$3="Ricavi Generati",'W Plur.'!$C112*'W. Month'!E$10)) -> 0 | F34: =IF($M$3="Quantità vendute",'W Plur.'!$C97*'W. Month'!F$10,IF($M$3="Ricavi Generati",'W Plur.'!$C112*'W. Month'!F$10)) -> 0 | G34: =IF($M$3="Quantità vendute",'W Plur.'!$C97*'W. Month'!G$10,IF($M$3="Ricavi Generati",'W Plur.'!$C112*'W. Month'!G$10)) -> 0 | H34: =IF($M$3="Quantità vendute",'W Plur.'!$C97*'W. Month'!H$10,IF($M$3="Ricavi Generati",'W Plur.'!$C112*'W. Month'!H$10)) -> 0 | I34: =IF($M$3="Quantità vendute",'W Plur.'!$C97*'W. Month'!I$10,IF($M$3="Ricavi Generati",'W Plur.'!$C112*'W. Month'!I$10)) -> 0 | ... M34: =IF($M$3="Quantità vendute",'W Plur.'!$C97*'W. Month'!M$10,IF($M$3="Ricavi Generati",'W Plur.'!$C112*'W. Month'!M$10)) -> 0 | N34: =SUM(B34:M34) -> 0 | O34: =O33 -> 0
A35: =A20 -> // | B35: =IF($M$3="Quantità vendute",'W Plur.'!$C98*'W. Month'!B$10,IF($M$3="Ricavi Generati",'W Plur.'!$C113*'W. Month'!B$10)) -> 0 | C35: =IF($M$3="Quantità vendute",'W Plur.'!$C98*'W. Month'!C$10,IF($M$3="Ricavi Generati",'W Plur.'!$C113*'W. Month'!C$10)) -> 0 | D35: =IF($M$3="Quantità vendute",'W Plur.'!$C98*'W. Month'!D$10,IF($M$3="Ricavi Generati",'W Plur.'!$C113*'W. Month'!D$10)) -> 0 | E35: =IF($M$3="Quantità vendute",'W Plur.'!$C98*'W. Month'!E$10,IF($M$3="Ricavi Generati",'W Plur.'!$C113*'W. Month'!E$10)) -> 0 | F35: =IF($M$3="Quantità vendute",'W Plur.'!$C98*'W. Month'!F$10,IF($M$3="Ricavi Generati",'W Plur.'!$C113*'W. Month'!F$10)) -> 0 | G35: =IF($M$3="Quantità vendute",'W Plur.'!$C98*'W. Month'!G$10,IF($M$3="Ricavi Generati",'W Plur.'!$C113*'W. Month'!G$10)) -> 0 | H35: =IF($M$3="Quantità vendute",'W Plur.'!$C98*'W. Month'!H$10,IF($M$3="Ricavi Generati",'W Plur.'!$C113*'W. Month'!H$10)) -> 0 | I35: =IF($M$3="Quantità vendute",'W Plur.'!$C98*'W. Month'!I$10,IF($M$3="Ricavi Generati",'W Plur.'!$C113*'W. Month'!I$10)) -> 0 | ... M35: =IF($M$3="Quantità vendute",'W Plur.'!$C98*'W. Month'!M$10,IF($M$3="Ricavi Generati",'W Plur.'!$C113*'W. Month'!M$10)) -> 0 | N35: =SUM(B35:M35) -> 0 | O35: =O34 -> 0
A36: =A21 -> // | B36: =IF($M$3="Quantità vendute",'W Plur.'!$C99*'W. Month'!B$10,IF($M$3="Ricavi Generati",'W Plur.'!$C114*'W. Month'!B$10)) -> 0 | C36: =IF($M$3="Quantità vendute",'W Plur.'!$C99*'W. Month'!C$10,IF($M$3="Ricavi Generati",'W Plur.'!$C114*'W. Month'!C$10)) -> 0 | D36: =IF($M$3="Quantità vendute",'W Plur.'!$C99*'W. Month'!D$10,IF($M$3="Ricavi Generati",'W Plur.'!$C114*'W. Month'!D$10)) -> 0 | E36: =IF($M$3="Quantità vendute",'W Plur.'!$C99*'W. Month'!E$10,IF($M$3="Ricavi Generati",'W Plur.'!$C114*'W. Month'!E$10)) -> 0 | F36: =IF($M$3="Quantità vendute",'W Plur.'!$C99*'W. Month'!F$10,IF($M$3="Ricavi Generati",'W Plur.'!$C114*'W. Month'!F$10)) -> 0 | G36: =IF($M$3="Quantità vendute",'W Plur.'!$C99*'W. Month'!G$10,IF($M$3="Ricavi Generati",'W Plur.'!$C114*'W. Month'!G$10)) -> 0 | H36: =IF($M$3="Quantità vendute",'W Plur.'!$C99*'W. Month'!H$10,IF($M$3="Ricavi Generati",'W Plur.'!$C114*'W. Month'!H$10)) -> 0 | I36: =IF($M$3="Quantità vendute",'W Plur.'!$C99*'W. Month'!I$10,IF($M$3="Ricavi Generati",'W Plur.'!$C114*'W. Month'!I$10)) -> 0 | ... M36: =IF($M$3="Quantità vendute",'W Plur.'!$C99*'W. Month'!M$10,IF($M$3="Ricavi Generati",'W Plur.'!$C114*'W. Month'!M$10)) -> 0 | N36: =SUM(B36:M36) -> 0 | O36: =O35 -> 0
A37: =A22 -> // | B37: =IF($M$3="Quantità vendute",'W Plur.'!$C100*'W. Month'!B$10,IF($M$3="Ricavi Generati",'W Plur.'!$C115*'W. Month'!B$10)) -> 0 | C37: =IF($M$3="Quantità vendute",'W Plur.'!$C100*'W. Month'!C$10,IF($M$3="Ricavi Generati",'W Plur.'!$C115*'W. Month'!C$10)) -> 0 | D37: =IF($M$3="Quantità vendute",'W Plur.'!$C100*'W. Month'!D$10,IF($M$3="Ricavi Generati",'W Plur.'!$C115*'W. Month'!D$10)) -> 0 | E37: =IF($M$3="Quantità vendute",'W Plur.'!$C100*'W. Month'!E$10,IF($M$3="Ricavi Generati",'W Plur.'!$C115*'W. Month'!E$10)) -> 0 | F37: =IF($M$3="Quantità vendute",'W Plur.'!$C100*'W. Month'!F$10,IF($M$3="Ricavi Generati",'W Plur.'!$C115*'W. Month'!F$10)) -> 0 | G37: =IF($M$3="Quantità vendute",'W Plur.'!$C100*'W. Month'!G$10,IF($M$3="Ricavi Generati",'W Plur.'!$C115*'W. Month'!G$10)) -> 0 | H37: =IF($M$3="Quantità vendute",'W Plur.'!$C100*'W. Month'!H$10,IF($M$3="Ricavi Generati",'W Plur.'!$C115*'W. Month'!H$10)) -> 0 | I37: =IF($M$3="Quantità vendute",'W Plur.'!$C100*'W. Month'!I$10,IF($M$3="Ricavi Generati",'W Plur.'!$C115*'W. Month'!I$10)) -> 0 | ... M37: =IF($M$3="Quantità vendute",'W Plur.'!$C100*'W. Month'!M$10,IF($M$3="Ricavi Generati",'W Plur.'!$C115*'W. Month'!M$10)) -> 0 | N37: =SUM(B37:M37) -> 0 | O37: =O36 -> 0
A38: =A23 -> // | B38: =IF($M$3="Quantità vendute",'W Plur.'!$C101*'W. Month'!B$10,IF($M$3="Ricavi Generati",'W Plur.'!$C116*'W. Month'!B$10)) -> 0 | C38: =IF($M$3="Quantità vendute",'W Plur.'!$C101*'W. Month'!C$10,IF($M$3="Ricavi Generati",'W Plur.'!$C116*'W. Month'!C$10)) -> 0 | D38: =IF($M$3="Quantità vendute",'W Plur.'!$C101*'W. Month'!D$10,IF($M$3="Ricavi Generati",'W Plur.'!$C116*'W. Month'!D$10)) -> 0 | E38: =IF($M$3="Quantità vendute",'W Plur.'!$C101*'W. Month'!E$10,IF($M$3="Ricavi Generati",'W Plur.'!$C116*'W. Month'!E$10)) -> 0 | F38: =IF($M$3="Quantità vendute",'W Plur.'!$C101*'W. Month'!F$10,IF($M$3="Ricavi Generati",'W Plur.'!$C116*'W. Month'!F$10)) -> 0 | G38: =IF($M$3="Quantità vendute",'W Plur.'!$C101*'W. Month'!G$10,IF($M$3="Ricavi Generati",'W Plur.'!$C116*'W. Month'!G$10)) -> 0 | H38: =IF($M$3="Quantità vendute",'W Plur.'!$C101*'W. Month'!H$10,IF($M$3="Ricavi Generati",'W Plur.'!$C116*'W. Month'!H$10)) -> 0 | I38: =IF($M$3="Quantità vendute",'W Plur.'!$C101*'W. Month'!I$10,IF($M$3="Ricavi Generati",'W Plur.'!$C116*'W. Month'!I$10)) -> 0 | ... M38: =IF($M$3="Quantità vendute",'W Plur.'!$C101*'W. Month'!M$10,IF($M$3="Ricavi Generati",'W Plur.'!$C116*'W. Month'!M$10)) -> 0 | N38: =SUM(B38:M38) -> 0 | O38: =O37 -> 0
A39: =A24 -> // | B39: =IF($M$3="Quantità vendute",'W Plur.'!$C102*'W. Month'!B$10,IF($M$3="Ricavi Generati",'W Plur.'!$C117*'W. Month'!B$10)) -> 0 | C39: =IF($M$3="Quantità vendute",'W Plur.'!$C102*'W. Month'!C$10,IF($M$3="Ricavi Generati",'W Plur.'!$C117*'W. Month'!C$10)) -> 0 | D39: =IF($M$3="Quantità vendute",'W Plur.'!$C102*'W. Month'!D$10,IF($M$3="Ricavi Generati",'W Plur.'!$C117*'W. Month'!D$10)) -> 0 | E39: =IF($M$3="Quantità vendute",'W Plur.'!$C102*'W. Month'!E$10,IF($M$3="Ricavi Generati",'W Plur.'!$C117*'W. Month'!E$10)) -> 0 | F39: =IF($M$3="Quantità vendute",'W Plur.'!$C102*'W. Month'!F$10,IF($M$3="Ricavi Generati",'W Plur.'!$C117*'W. Month'!F$10)) -> 0 | G39: =IF($M$3="Quantità vendute",'W Plur.'!$C102*'W. Month'!G$10,IF($M$3="Ricavi Generati",'W Plur.'!$C117*'W. Month'!G$10)) -> 0 | H39: =IF($M$3="Quantità vendute",'W Plur.'!$C102*'W. Month'!H$10,IF($M$3="Ricavi Generati",'W Plur.'!$C117*'W. Month'!H$10)) -> 0 | I39: =IF($M$3="Quantità vendute",'W Plur.'!$C102*'W. Month'!I$10,IF($M$3="Ricavi Generati",'W Plur.'!$C117*'W. Month'!I$10)) -> 0 | ... M39: =IF($M$3="Quantità vendute",'W Plur.'!$C102*'W. Month'!M$10,IF($M$3="Ricavi Generati",'W Plur.'!$C117*'W. Month'!M$10)) -> 0 | N39: =SUM(B39:M39) -> 0 | O39: =O38 -> 0
A40: =A25 -> // | B40: =IF($M$3="Quantità vendute",'W Plur.'!$C103*'W. Month'!B$10,IF($M$3="Ricavi Generati",'W Plur.'!$C118*'W. Month'!B$10)) -> 0 | C40: =IF($M$3="Quantità vendute",'W Plur.'!$C103*'W. Month'!C$10,IF($M$3="Ricavi Generati",'W Plur.'!$C118*'W. Month'!C$10)) -> 0 | D40: =IF($M$3="Quantità vendute",'W Plur.'!$C103*'W. Month'!D$10,IF($M$3="Ricavi Generati",'W Plur.'!$C118*'W. Month'!D$10)) -> 0 | E40: =IF($M$3="Quantità vendute",'W Plur.'!$C103*'W. Month'!E$10,IF($M$3="Ricavi Generati",'W Plur.'!$C118*'W. Month'!E$10)) -> 0 | F40: =IF($M$3="Quantità vendute",'W Plur.'!$C103*'W. Month'!F$10,IF($M$3="Ricavi Generati",'W Plur.'!$C118*'W. Month'!F$10)) -> 0 | G40: =IF($M$3="Quantità vendute",'W Plur.'!$C103*'W. Month'!G$10,IF($M$3="Ricavi Generati",'W Plur.'!$C118*'W. Month'!G$10)) -> 0 | H40: =IF($M$3="Quantità vendute",'W Plur.'!$C103*'W. Month'!H$10,IF($M$3="Ricavi Generati",'W Plur.'!$C118*'W. Month'!H$10)) -> 0 | I40: =IF($M$3="Quantità vendute",'W Plur.'!$C103*'W. Month'!I$10,IF($M$3="Ricavi Generati",'W Plur.'!$C118*'W. Month'!I$10)) -> 0 | ... M40: =IF($M$3="Quantità vendute",'W Plur.'!$C103*'W. Month'!M$10,IF($M$3="Ricavi Generati",'W Plur.'!$C118*'W. Month'!M$10)) -> 0 | N40: =SUM(B40:M40) -> 0 | O40: =O39 -> 0
A41: =A26 -> Total | B41: =SUM(B29:B40) -> 63123.214 | C41: =SUM(C29:C40) -> 61311.14 | D41: =SUM(D29:D40) -> 68392.857 | E41: =SUM(E29:E40) -> 67633.604 | F41: =SUM(F29:F40) -> 70936.36 | G41: =SUM(G29:G40) -> 72473.602 | H41: =SUM(H29:H40) -> 80238.743 | I41: =SUM(I29:I40) -> 78473.351 | ... M41: =SUM(M29:M40) -> 58357.641 | N41: =SUM(B41:M41) -> 808377.82 | O41: =AVERAGE(O29:O40) -> 0
A43: ='W Plur.'!D5 -> 2027 | B43: =B28 -> January | C43: =C28 -> February | D43: =D28 -> March | E43: =E28 -> April | F43: =F28 -> May | G43: =G28 -> June | H43: =H28 -> July | I43: =I28 -> August | ... N43: =N28 -> Sum | O43: DSO
A44: =A29 -> Revenues before lunch | B44: =IF($M$3="Quantità vendute",'W Plur.'!$D92*'W. Month'!B$10,IF($M$3="Ricavi Generati",'W Plur.'!$D107*'W. Month'!B$10)) -> 33200.965 | C44: =IF($M$3="Quantità vendute",'W Plur.'!$D92*'W. Month'!C$10,IF($M$3="Ricavi Generati",'W Plur.'!$D107*'W. Month'!C$10)) -> 32247.867 | D44: =IF($M$3="Quantità vendute",'W Plur.'!$D92*'W. Month'!D$10,IF($M$3="Ricavi Generati",'W Plur.'!$D107*'W. Month'!D$10)) -> 35972.644 | E44: =IF($M$3="Quantità vendute",'W Plur.'!$D92*'W. Month'!E$10,IF($M$3="Ricavi Generati",'W Plur.'!$D107*'W. Month'!E$10)) -> 35573.299 | F44: =IF($M$3="Quantità vendute",'W Plur.'!$D92*'W. Month'!F$10,IF($M$3="Ricavi Generati",'W Plur.'!$D107*'W. Month'!F$10)) -> 37310.452 | G44: =IF($M$3="Quantità vendute",'W Plur.'!$D92*'W. Month'!G$10,IF($M$3="Ricavi Generati",'W Plur.'!$D107*'W. Month'!G$10)) -> 38118.996 | H44: =IF($M$3="Quantità vendute",'W Plur.'!$D92*'W. Month'!H$10,IF($M$3="Ricavi Generati",'W Plur.'!$D107*'W. Month'!H$10)) -> 42203.234 | I44: =IF($M$3="Quantità vendute",'W Plur.'!$D92*'W. Month'!I$10,IF($M$3="Ricavi Generati",'W Plur.'!$D107*'W. Month'!I$10)) -> 41274.689 | ... M44: =IF($M$3="Quantità vendute",'W Plur.'!$D92*'W. Month'!M$10,IF($M$3="Ricavi Generati",'W Plur.'!$D107*'W. Month'!M$10)) -> 30694.414 | N44: =SUM(B44:M44) -> 425183.11 | O44: ='Controll Panel'!D7 -> 0
...

Sheet Inv.
A1: =Menù!D3 -> Trovato 1929
A2: =Menù!A2 -> Budget e Business Plan
A3: Capex
A5: Macro | B5: Details | C5: ='W Plur.'!B5 -> 2025 | D5: =C5+1 -> 2026 | E5: =D5+1 -> 2027 | F5: =E5+1 -> 2028 | G5: =F5+1 -> 2029 | H5: A/L | I5: =C5 -> 2025 | J5: =D5 -> 2026 | K5: =E5 -> 2027 | L5: =F5 -> 2028 | M5: =G5 -> 2029 | O5: Tot. Am. | Q5: CdC | S5: Iva % | T5: Iva € | V5: =I5 -> 2025 | W5: =J5 -> 2026 | X5: =K5 -> 2027 | Y5: =L5 -> 2028 | Z5: =M5 -> 2029 | AB5: Years Amm.
A7: Intangible assets | H7: // | I7: Amortization | O7: =C5 -> 2025 | Q7: CdC | S7: VAT | T7: VAT € | V7: Depreciation fund
A8: Installation costs | B8: Deposits | C8: 0 | D8: 0 | E8: 0 | F8: 0 | G8: 0 | H8: A | I8: =IF(H8="A",C8/AB8,0) -> 0 | J8: =I8+D8/AB8 -> 0 | K8: =J8+E8/AB8 -> 0 | L8: =K8+F8/AB8 -> 0 | M8: =L8+G8/AB8 -> 0 | O8: =SUM(I8:I12) -> 0 | Q8: ND | S8: 0.22 | T8: =C8*S8 -> 0 | V8: =C8-I8 -> 0 | W8: =(C8-C8/AB8-C8/AB8)+(D8-D8/AB8) -> 0 | X8: =(C8-C8/AB8-C8/AB8-C8/AB8)+(D8-D8/AB8-D8/AB8)+(E8-E8/AB8) -> 0 | Y8: =(C8-C8/AB8-C8/AB8-C8/AB8-C8/AB8)+(D8-D8/AB8-D8/AB8-D8/AB8)+(E8-E8/AB8-E8/AB8)+(F8-F8/AB8) -> 0 | Z8: =(C8-C8/AB8-C8/AB8-C8/AB8-C8/AB8-C8/AB8)+(D8-D8/AB8-D8/AB8-D8/AB8-D8/AB8)+(E8-E8/AB8-E8/AB8-E8/AB8)+(F8-F8/AB8-F8/AB8)+(G8-G8/AB8) -> 0 | AB8: 5
B9: Others | C9: 0 | D9: 0 | E9: 0 | F9: 0 | G9: 0 | H9: A | I9: =IF(H9="A",C9/AB9,0) -> 0 | J9: =I9+D9/AB9 -> 0 | K9: =J9+E9/AB9 -> 0 | L9: =K9+F9/AB9 -> 0 | M9: =L9+G9/AB9 -> 0 | Q9: ND | S9: 0.22 | T9: =C9*S9 -> 0 | V9: =C9-I9 -> 0 | W9: =(C9-C9/AB9-C9/AB9)+(D9-D9/AB9) -> 0 | X9: =(C9-C9/AB9-C9/AB9-C9/AB9)+(D9-D9/AB9-D9/AB9)+(E9-E9/AB9) -> 0 | Y9: =(C9-C9/AB9-C9/AB9-C9/AB9-C9/AB9)+(D9-D9/AB9-D9/AB9-D9/AB9)+(E9-E9/AB9-E9/AB9)+(F9-F9/AB9) -> 0 | Z9: =(C9-C9/AB9-C9/AB9-C9/AB9-C9/AB9-C9/AB9)+(D9-D9/AB9-D9/AB9-D9/AB9-D9/AB9)+(E9-E9/AB9-E9/AB9-E9/AB9)+(F9-F9/AB9-F9/AB9)+(G9-G9/AB9) -> 0 | AB9: 5
B10: Others | C10: 0 | D10: 0 | E10: 0 | F10: 0 | G10: 0 | H10: A | I10: =IF(H10="A",C10/AB10,0) -> 0 | J10: =I10+D10/AB10 -> 0 | K10: =J10+E10/AB10 -> 0 | L10: =K10+F10/AB10 -> 0 | M10: =L10+G10/AB10 -> 0 | Q10: ND | S10: 0.22 | T10: =C10*S10 -> 0 | V10: =C10-I10 -> 0 | W10: =(C10-C10/AB10-C10/AB10)+(D10-D10/AB10) -> 0 | X10: =(C10-C10/AB10-C10/AB10-C10/AB10)+(D10-D10/AB10-D10/AB10)+(E10-E10/AB10) -> 0 | Y10: =(C10-C10/AB10-C10/AB10-C10/AB10-C10/AB10)+(D10-D10/AB10-D10/AB10-D10/AB10)+(E10-E10/AB10-E10/AB10)+(F10-F10/AB10) -> 0 | Z10: =(C10-C10/AB10-C10/AB10-C10/AB10-C10/AB10-C10/AB10)+(D10-D10/AB10-D10/AB10-D10/AB10-D10/AB10)+(E10-E10/AB10-E10/AB10-E10/AB10)+(F10-F10/AB10-F10/AB10)+(G10-G10/AB10) -> 0 | AB10: 5
B11: Others | C11: 0 | D11: 0 | E11: 0 | F11: 0 | G11: 0 | H11: A | I11: =IF(H11="A",C11/AB11,0) -> 0 | J11: =I11+D11/AB11 -> 0 | K11: =J11+E11/AB11 -> 0 | L11: =K11+F11/AB11 -> 0 | M11: =L11+G11/AB11 -> 0 | Q11: ND | S11: 0.22 | T11: =C11*S11 -> 0 | V11: =C11-I11 -> 0 | W11: =(C11-C11/AB11-C11/AB11)+(D11-D11/AB11) -> 0 | X11: =(C11-C11/AB11-C11/AB11-C11/AB11)+(D11-D11/AB11-D11/AB11)+(E11-E11/AB11) -> 0 | Y11: =(C11-C11/AB11-C11/AB11-C11/AB11-C11/AB11)+(D11-D11/AB11-D11/AB11-D11/AB11)+(E11-E11/AB11-E11/AB11)+(F11-F11/AB11) -> 0 | Z11: =(C11-C11/AB11-C11/AB11-C11/AB11-C11/AB11-C11/AB11)+(D11-D11/AB11-D11/AB11-D11/AB11-D11/AB11)+(E11-E11/AB11-E11/AB11-E11/AB11)+(F11-F11/AB11-F11/AB11)+(G11-G11/AB11) -> 0 | AB11: 5
B12: Others | C12: 0 | D12: 0 | E12: 0 | F12: 0 | G12: 0 | H12: A | I12: =IF(H12="A",C12/AB12,0) -> 0 | J12: =I12+D12/AB12 -> 0 | K12: =J12+E12/AB12 -> 0 | L12: =K12+F12/AB12 -> 0 | M12: =L12+G12/AB12 -> 0 | Q12: ND | S12: 0.22 | T12: =C12*S12 -> 0 | V12: =C12-I12 -> 0 | W12: =(C12-C12/AB12-C12/AB12)+(D12-D12/AB12) -> 0 | X12: =(C12-C12/AB12-C12/AB12-C12/AB12)+(D12-D12/AB12-D12/AB12)+(E12-E12/AB12) -> 0 | Y12: =(C12-C12/AB12-C12/AB12-C12/AB12-C12/AB12)+(D12-D12/AB12-D12/AB12-D12/AB12)+(E12-E12/AB12-E12/AB12)+(F12-F12/AB12) -> 0 | Z12: =(C12-C12/AB12-C12/AB12-C12/AB12-C12/AB12-C12/AB12)+(D12-D12/AB12-D12/AB12-D12/AB12-D12/AB12)+(E12-E12/AB12-E12/AB12-E12/AB12)+(F12-F12/AB12-F12/AB12)+(G12-G12/AB12) -> 0 | AB12: 5
A13: Point of sale renovation costs | B13: Turnkey local renovation | C13: ='PoS ren. costs'!D24 -> 250498.8 | D13: 0 | E13: 0 | F13: 0 | G13: 0 | H13: A | I13: =IF(H13="A",C13/AB13,0) -> 35785.543 | J13: =I13+D13/AB13 -> 35785.543 | K13: =J13+E13/AB13 -> 35785.543 | L13: =K13+F13/AB13 -> 35785.543 | M13: =L13+G13/AB13 -> 35785.543 | O13: =SUM(I13:I16) -> 35785.543 | Q13: ND | S13: 0.22 | T13: =C13*S13 -> 55109.736 | V13: =C13-I13 -> 214713.26 | W13: =(C13-C13/AB13-C13/AB13)+(D13-D13/AB13) -> 178927.71 | X13: =(C13-C13/AB13-C13/AB13-C13/AB13)+(D13-D13/AB13-D13/AB13)+(E13-E13/AB13) -> 143142.17 | Y13: =(C13-C13/AB13-C13/AB13-C13/AB13-C13/AB13)+(D13-D13/AB13-D13/AB13-D13/AB13)+(E13-E13/AB13-E13/AB13)+(F13-F13/AB13) -> 107356.63 | Z13: =(C13-C13/AB13-C13/AB13-C13/AB13-C13/AB13-C13/AB13)+(D13-D13/AB13-D13/AB13-D13/AB13-D13/AB13)+(E13-E13/AB13-E13/AB13-E13/AB13)+(F13-F13/AB13-F13/AB13)+(G13-G13/AB13) -> 71571.086 | AB13: 7
B14: Others | C14: 0 | D14: 0 | E14: 0 | F14: 0 | G14: 0 | H14: A | I14: =IF(H14="A",C14/AB14,0) -> 0 | J14: =I14+D14/AB14 -> 0 | K14: =J14+E14/AB14 -> 0 | L14: =K14+F14/AB14 -> 0 | M14: =L14+G14/AB14 -> 0 | Q14: ND | S14: 0.22 | T14: =C14*S14 -> 0 | V14: =C14-I14 -> 0 | W14: =(C14-C14/AB14-C14/AB14)+(D14-D14/AB14) -> 0 | X14: =(C14-C14/AB14-C14/AB14-C14/AB14)+(D14-D14/AB14-D14/AB14)+(E14-E14/AB14) -> 0 | Y14: =(C14-C14/AB14-C14/AB14-C14/AB14-C14/AB14)+(D14-D14/AB14-D14/AB14-D14/AB14)+(E14-E14/AB14-E14/AB14)+(F14-F14/AB14) -> 0 | Z14: =(C14-C14/AB14-C14/AB14-C14/AB14-C14/AB14-C14/AB14)+(D14-D14/AB14-D14/AB14-D14/AB14-D14/AB14)+(E14-E14/AB14-E14/AB14-E14/AB14)+(F14-F14/AB14-F14/AB14)+(G14-G14/AB14) -> 0 | AB14: 7
